BEGIN:VCALENDAR
VERSION:2.0
PRODID:-//InvisionCommunity Events 4.7.23//EN
METHOD:PUBLISH
CALSCALE:GREGORIAN
REFRESH-INTERVAL:PT15M
X-PUBLISHED-TTL:PT15M
X-WR-CALNAME:At My TV
NAME:At My TV
BEGIN:VTIMEZONE
TZID:Europe/London
TZURL:http://tzurl.org/zoneinfo/Europe/London
X-LIC-LOCATION:Europe/London
BEGIN:DAYLIGHT
TZOFFSETFROM:+0000
TZOFFSETTO:+0100
TZNAME:BST
DTSTART:20260329T020000Z
RRULE:FREQ=YEARLY;BYMONTH=3;BYDAY=-1SU
END:DAYLIGHT
BEGIN:STANDARD
TZOFFSETFROM:+0100
TZOFFSETTO:+0000
TZNAME:GMT
DTSTART:20261025T020000Z
RRULE:FREQ=YEARLY;BYMONTH=10;BYDAY=-1SU
END:STANDARD
END:VTIMEZONE
BEGIN:VEVENT
SUMMARY:The Jennifer Hudson Show 4x87 - Sofía Vergara\, OctaviaSpen
	cer\, Jareem Gunter
DTSTAMP:20260210T070525Z
SEQUENCE:0
UID:205852-2-841ebed20eb198c4569419e99b7bf40a@themidnightzone.com
ORGANIZER;CN="Midnight":midnight@themidnightzone.com
DESCRIPTION:Award-winning actresses Sofía Vergara and OctaviaSpence
	r stop by to chat about the public health mission Detectthe SOS. Then\, 
	Jennifer welcomes Jareem Gunter fromAntioch\, California! Jareem\, an ed
	ucator of 20-plus years\,started a free basketball program\, Dream Team\, 
	in hiscommunity to help disadvantaged young men develop intoleaders\, on a
	nd off the court. Plus\, \"***** Eye\"star Jeremiah Brent stops by to t
	alk about the final seasonof the hit show.  
DTSTART:20260211T050000Z
DTEND:20260211T060000Z
END:VEVENT
END:VCALENDAR
