BEGIN:VCALENDAR
VERSION:2.0
PRODID:-//InvisionCommunity Events 4.7.23//EN
METHOD:PUBLISH
CALSCALE:GREGORIAN
REFRESH-INTERVAL:PT15M
X-PUBLISHED-TTL:PT15M
X-WR-CALNAME:At My TV
NAME:At My TV
BEGIN:VTIMEZONE
TZID:Europe/London
TZURL:http://tzurl.org/zoneinfo/Europe/London
X-LIC-LOCATION:Europe/London
BEGIN:DAYLIGHT
TZOFFSETFROM:+0000
TZOFFSETTO:+0100
TZNAME:BST
DTSTART:20260329T020000Z
RRULE:FREQ=YEARLY;BYMONTH=3;BYDAY=-1SU
END:DAYLIGHT
BEGIN:STANDARD
TZOFFSETFROM:+0100
TZOFFSETTO:+0000
TZNAME:GMT
DTSTART:20261025T020000Z
RRULE:FREQ=YEARLY;BYMONTH=10;BYDAY=-1SU
END:STANDARD
END:VTIMEZONE
BEGIN:VEVENT
SUMMARY:The Drew Barrymore Show 6x96 - Jeremy Pope\, Nate Berkus\, C
	hefDan Souza
DTSTAMP:20260210T070525Z
SEQUENCE:0
UID:205853-2-841ebed20eb198c4569419e99b7bf40a@themidnightzone.com
ORGANIZER;CN="Midnight":midnight@themidnightzone.com
DESCRIPTION:Drew and Ross are covering the headlines with pals ValerieB
	ertinelli and Nate Berkus. Jeremy Pope tells Drew about hisshow \"The B
	eauty.\" Dan Souza and Valerie Bertinelli aremaking a creamy sweet pot
	ato stew. Drew chats with the CEO andcofounder of The Honey Pot.  
DTSTART:20260210T050000Z
DTEND:20260210T060000Z
END:VEVENT
END:VCALENDAR
