BEGIN:VCALENDAR
VERSION:2.0
PRODID:-//InvisionCommunity Events 4.7.23//EN
METHOD:PUBLISH
CALSCALE:GREGORIAN
REFRESH-INTERVAL:PT15M
X-PUBLISHED-TTL:PT15M
X-WR-CALNAME:At My TV
NAME:At My TV
BEGIN:VTIMEZONE
TZID:Europe/London
TZURL:http://tzurl.org/zoneinfo/Europe/London
X-LIC-LOCATION:Europe/London
BEGIN:DAYLIGHT
TZOFFSETFROM:+0000
TZOFFSETTO:+0100
TZNAME:BST
DTSTART:20260329T020000Z
RRULE:FREQ=YEARLY;BYMONTH=3;BYDAY=-1SU
END:DAYLIGHT
BEGIN:STANDARD
TZOFFSETFROM:+0100
TZOFFSETTO:+0000
TZNAME:GMT
DTSTART:20261025T020000Z
RRULE:FREQ=YEARLY;BYMONTH=10;BYDAY=-1SU
END:STANDARD
END:VTIMEZONE
BEGIN:VEVENT
SUMMARY:Britain's Got Talent 19x1 - Auditions 1
DTSTAMP:20260213T070527Z
SEQUENCE:0
UID:206005-2-841ebed20eb198c4569419e99b7bf40a@themidnightzone.com
ORGANIZER;CN="Midnight":midnight@themidnightzone.com
DESCRIPTION:Ant and Dec host the nationwide talent search\, which sees a
	wide variety of acts compete for the chance to win a cash prizeof £250\,0
	00 and a coveted slot at the Royal VarietyPerformance. Musician KSI replac
	es Bruno Tonioli on the judgingpanel\, joining Simon Cowell\, Amanda Holde
	n and Alesha Dixonfor the first set of auditions at Blackpool's Winter Gar
	dens.
DTSTART:20260221T190000Z
DTEND:20260221T205800Z
END:VEVENT
END:VCALENDAR
