BEGIN:VCALENDAR
VERSION:2.0
PRODID:-//InvisionCommunity Events 4.7.23//EN
METHOD:PUBLISH
CALSCALE:GREGORIAN
REFRESH-INTERVAL:PT15M
X-PUBLISHED-TTL:PT15M
X-WR-CALNAME:At My TV
NAME:At My TV
BEGIN:VTIMEZONE
TZID:Europe/London
TZURL:http://tzurl.org/zoneinfo/Europe/London
X-LIC-LOCATION:Europe/London
BEGIN:DAYLIGHT
TZOFFSETFROM:+0000
TZOFFSETTO:+0100
TZNAME:BST
DTSTART:20260329T020000Z
RRULE:FREQ=YEARLY;BYMONTH=3;BYDAY=-1SU
END:DAYLIGHT
BEGIN:STANDARD
TZOFFSETFROM:+0100
TZOFFSETTO:+0000
TZNAME:GMT
DTSTART:20261025T020000Z
RRULE:FREQ=YEARLY;BYMONTH=10;BYDAY=-1SU
END:STANDARD
END:VTIMEZONE
BEGIN:VEVENT
SUMMARY:The Jennifer Hudson Show 4x90 - Bebe Rexha
DTSTAMP:20260215T070528Z
SEQUENCE:0
UID:206086-2-841ebed20eb198c4569419e99b7bf40a@themidnightzone.com
ORGANIZER;CN="Midnight":midnight@themidnightzone.com
DESCRIPTION:Singer-songwriter Bebe Rexha stops by to talk about her ne
	walbum and song \"I Like You Better.\"Then\, Jenniferwelcomes Daneisha Ly
	les and her daughter\, Londyn Banks\,from Philadelphia\, Pennsylvania. D
	aneisha recently passed theNCLEX nursing exam after putting her career dre
	ams on hold tocare for her daughter\, who was born with medicalchallenges.
	 Jennifer chats with them about the emotional andjoyful celebration that 
	went viral. 
DTSTART:20260217T050000Z
DTEND:20260217T060000Z
END:VEVENT
END:VCALENDAR
