BEGIN:VCALENDAR
VERSION:2.0
PRODID:-//InvisionCommunity Events 4.7.23//EN
METHOD:PUBLISH
CALSCALE:GREGORIAN
REFRESH-INTERVAL:PT15M
X-PUBLISHED-TTL:PT15M
X-WR-CALNAME:At My TV
NAME:At My TV
BEGIN:VTIMEZONE
TZID:Europe/London
TZURL:http://tzurl.org/zoneinfo/Europe/London
X-LIC-LOCATION:Europe/London
BEGIN:DAYLIGHT
TZOFFSETFROM:+0000
TZOFFSETTO:+0100
TZNAME:BST
DTSTART:20260329T020000Z
RRULE:FREQ=YEARLY;BYMONTH=3;BYDAY=-1SU
END:DAYLIGHT
BEGIN:STANDARD
TZOFFSETFROM:+0100
TZOFFSETTO:+0000
TZNAME:GMT
DTSTART:20261025T020000Z
RRULE:FREQ=YEARLY;BYMONTH=10;BYDAY=-1SU
END:STANDARD
END:VTIMEZONE
BEGIN:VEVENT
SUMMARY:Tamron Hall 7x102 - True Crime with Tamron Hall
DTSTAMP:20260221T070532Z
SEQUENCE:0
UID:206383-2-841ebed20eb198c4569419e99b7bf40a@themidnightzone.com
ORGANIZER;CN="Midnight":midnight@themidnightzone.com
DESCRIPTION:Actress and model EVA MARCILLE stars in Lifetime's \"Pushed 
	Offa Plane and Survived\,\" inspired by one woman's true story.Then\, MADI
	SON MCGHEE opens up about her viral podcast \"IceCold Case\" in pursuit of
	 answers surrounding her father'sunsolved murder. Plus\, retired detective
	 PAMELA CHILDS sharesinsights from leading the investigation featured in I
	D's newtrue crime series \"Hunt for the Missing.\"
DTSTART:20260227T050000Z
DTEND:20260227T060000Z
END:VEVENT
END:VCALENDAR
