BEGIN:VCALENDAR
VERSION:2.0
PRODID:-//InvisionCommunity Events 4.7.23//EN
METHOD:PUBLISH
CALSCALE:GREGORIAN
REFRESH-INTERVAL:PT15M
X-PUBLISHED-TTL:PT15M
X-WR-CALNAME:At My TV
NAME:At My TV
BEGIN:VTIMEZONE
TZID:Europe/London
TZURL:http://tzurl.org/zoneinfo/Europe/London
X-LIC-LOCATION:Europe/London
BEGIN:DAYLIGHT
TZOFFSETFROM:+0000
TZOFFSETTO:+0100
TZNAME:BST
DTSTART:20260329T020000Z
RRULE:FREQ=YEARLY;BYMONTH=3;BYDAY=-1SU
END:DAYLIGHT
BEGIN:STANDARD
TZOFFSETFROM:+0100
TZOFFSETTO:+0000
TZNAME:GMT
DTSTART:20261025T020000Z
RRULE:FREQ=YEARLY;BYMONTH=10;BYDAY=-1SU
END:STANDARD
END:VTIMEZONE
BEGIN:VEVENT
SUMMARY:Tamron Hall 7x101 - Lisa Rinna's Gonna Talk About It
DTSTAMP:20260221T070532Z
SEQUENCE:0
UID:206389-2-841ebed20eb198c4569419e99b7bf40a@themidnightzone.com
ORGANIZER;CN="Midnight":midnight@themidnightzone.com
DESCRIPTION:Pop culture powerhouse LISA RINNA joins the Tam Fam to discu
	ssher new book\, \"You Better Believe I'm Gonna Talk About It\,\"pulling b
	ack the curtain on her headline-making career andfearless approach to life
	. Then\, legendary journalist andvisionary SUSAN L. TAYLOR celebrates 20 y
	ears of the NationalCARES Mentoring Movement and its transformative impact
	. Plus\,award-winning producer SAM PEZZULLO stops by to talk about hisnew 
	mockumentary\, \"The Premiere.\"
DTSTART:20260226T050000Z
DTEND:20260226T060000Z
END:VEVENT
END:VCALENDAR
