BEGIN:VCALENDAR
VERSION:2.0
PRODID:-//InvisionCommunity Events 4.7.23//EN
METHOD:PUBLISH
CALSCALE:GREGORIAN
REFRESH-INTERVAL:PT15M
X-PUBLISHED-TTL:PT15M
X-WR-CALNAME:At My TV
NAME:At My TV
BEGIN:VTIMEZONE
TZID:Europe/London
TZURL:http://tzurl.org/zoneinfo/Europe/London
X-LIC-LOCATION:Europe/London
BEGIN:DAYLIGHT
TZOFFSETFROM:+0000
TZOFFSETTO:+0100
TZNAME:BST
DTSTART:20260329T020000Z
RRULE:FREQ=YEARLY;BYMONTH=3;BYDAY=-1SU
END:DAYLIGHT
BEGIN:STANDARD
TZOFFSETFROM:+0100
TZOFFSETTO:+0000
TZNAME:GMT
DTSTART:20261025T020000Z
RRULE:FREQ=YEARLY;BYMONTH=10;BYDAY=-1SU
END:STANDARD
END:VTIMEZONE
BEGIN:VEVENT
SUMMARY:Tamron Hall 7x99 - Aldis Hodge\, Isaiah Mustafa
DTSTAMP:20260221T070532Z
SEQUENCE:0
UID:206403-2-841ebed20eb198c4569419e99b7bf40a@themidnightzone.com
ORGANIZER;CN="Midnight":midnight@themidnightzone.com
DESCRIPTION:\"Cross\" stars Aldis Hodge and Isaiah Mustafa: Actor ALDIS 
	HODGEstops by to talk about the highly anticipated new season of\"Cross\" 
	and is later joined by co-star ISAIAH MUSTAFA for aninside look at the ser
	ies. Then\, content creator GABRIELLACARR shares her bold mission to colle
	ct a thousand \"no's\" andwhy rejection became her greatest teacher. Two T
	am Fam membersreveal how they were inspired to take on the challenge\; plu
	s\,an all-new Shop Tam Fam.
DTSTART:20260224T050000Z
DTEND:20260224T060000Z
END:VEVENT
END:VCALENDAR
