BEGIN:VCALENDAR
VERSION:2.0
PRODID:-//InvisionCommunity Events 4.7.23//EN
METHOD:PUBLISH
CALSCALE:GREGORIAN
REFRESH-INTERVAL:PT15M
X-PUBLISHED-TTL:PT15M
X-WR-CALNAME:At My TV
NAME:At My TV
BEGIN:VTIMEZONE
TZID:Europe/London
TZURL:http://tzurl.org/zoneinfo/Europe/London
X-LIC-LOCATION:Europe/London
BEGIN:DAYLIGHT
TZOFFSETFROM:+0000
TZOFFSETTO:+0100
TZNAME:BST
DTSTART:20260329T020000Z
RRULE:FREQ=YEARLY;BYMONTH=3;BYDAY=-1SU
END:DAYLIGHT
BEGIN:STANDARD
TZOFFSETFROM:+0100
TZOFFSETTO:+0000
TZNAME:GMT
DTSTART:20261025T020000Z
RRULE:FREQ=YEARLY;BYMONTH=10;BYDAY=-1SU
END:STANDARD
END:VTIMEZONE
BEGIN:VEVENT
SUMMARY:Sherri 4x94 - J. Alexander\, Jay Manuel\, Nigel Barker
DTSTAMP:20260221T070532Z
SEQUENCE:0
UID:206408-2-841ebed20eb198c4569419e99b7bf40a@themidnightzone.com
ORGANIZER;CN="Midnight":midnight@themidnightzone.com
DESCRIPTION:Sherri kicks off the show with laughs in The Stand-UpSpot.Fo
	rmer ANTM judges J. Alexander\, Jay Manuel\, &amp\;Nigel Barker sit down w
	ith Sherri in a broadcast exclusive totalk about \"Reality Check: America'
	s Next Top Model.\"The WestOrange High School Step Team from West Orange\,
	 NJ visits theset to perform for Making Black History.
DTSTART:20260224T050000Z
DTEND:20260224T060000Z
END:VEVENT
END:VCALENDAR
