BEGIN:VCALENDAR
VERSION:2.0
PRODID:-//InvisionCommunity Events 4.7.23//EN
METHOD:PUBLISH
CALSCALE:GREGORIAN
REFRESH-INTERVAL:PT15M
X-PUBLISHED-TTL:PT15M
X-WR-CALNAME:At My TV
NAME:At My TV
BEGIN:VTIMEZONE
TZID:Europe/London
TZURL:http://tzurl.org/zoneinfo/Europe/London
X-LIC-LOCATION:Europe/London
BEGIN:DAYLIGHT
TZOFFSETFROM:+0000
TZOFFSETTO:+0100
TZNAME:BST
DTSTART:20260329T020000Z
RRULE:FREQ=YEARLY;BYMONTH=3;BYDAY=-1SU
END:DAYLIGHT
BEGIN:STANDARD
TZOFFSETFROM:+0100
TZOFFSETTO:+0000
TZNAME:GMT
DTSTART:20261025T020000Z
RRULE:FREQ=YEARLY;BYMONTH=10;BYDAY=-1SU
END:STANDARD
END:VTIMEZONE
BEGIN:VEVENT
SUMMARY:Saturday Night Live 51x14 - Ryan Gosling / Gorillaz
DTSTAMP:20260222T150534Z
SEQUENCE:0
UID:206440-2-841ebed20eb198c4569419e99b7bf40a@themidnightzone.com
ORGANIZER;CN="Midnight":midnight@themidnightzone.com
DESCRIPTION:Ryan Gosling will host \"SNL\" for the fourth time on March 
	7.The Academy Award-nominated actor produces and stars in the newfilm \"Pr
	oject Hail Mary\,\" in theaters March 20.Gorillaz willperform as musical g
	uest for the first time. \"The Mountain\,\"the new album from the Grammy-w
	inning band\, will be releasedFeb 27.
DTSTART:20260308T042900Z
DTEND:20260308T060200Z
END:VEVENT
END:VCALENDAR
