BEGIN:VCALENDAR
VERSION:2.0
PRODID:-//InvisionCommunity Events 4.7.23//EN
METHOD:PUBLISH
CALSCALE:GREGORIAN
REFRESH-INTERVAL:PT15M
X-PUBLISHED-TTL:PT15M
X-WR-CALNAME:At My TV
NAME:At My TV
BEGIN:VTIMEZONE
TZID:Europe/London
TZURL:http://tzurl.org/zoneinfo/Europe/London
X-LIC-LOCATION:Europe/London
BEGIN:DAYLIGHT
TZOFFSETFROM:+0000
TZOFFSETTO:+0100
TZNAME:BST
DTSTART:20260329T020000Z
RRULE:FREQ=YEARLY;BYMONTH=3;BYDAY=-1SU
END:DAYLIGHT
BEGIN:STANDARD
TZOFFSETFROM:+0100
TZOFFSETTO:+0000
TZNAME:GMT
DTSTART:20261025T020000Z
RRULE:FREQ=YEARLY;BYMONTH=10;BYDAY=-1SU
END:STANDARD
END:VTIMEZONE
BEGIN:VEVENT
SUMMARY:Ellis 2x1 - Ashenham: Part One
DTSTAMP:20260225T070535Z
SEQUENCE:0
UID:206559-2-841ebed20eb198c4569419e99b7bf40a@themidnightzone.com
ORGANIZER;CN="Midnight":midnight@themidnightzone.com
DESCRIPTION:When the body of Peter Barron\, a respected local businessma
	n\,is discovered in the tiny village of Ashenham\, shock quicklyturns to s
	uspicion. The local force is out of their depth\, andACC Leighton wastes n
	o time in parachuting in Ellis and Harper.With her forensic eye\, Ellis re
	cognises the situation for whatit is: murder. Pushing past the limited res
	ources of the localforce and resistance in the community\, she's determine
	d tounearth what really happened.\n\n\n\nThe owner of a thriving plantnurs
	ery and a well-known philanthropist whose influence reachedfar throughout 
	the community\; Peter was once a beloved figure.However\, a recent decisio
	n to launch a prison work releasescheme has caused outrage. For some\, the
	 scheme was a naturalcontinuation of Peter's charity work\, but for others
	\, theidea of criminals integrating into their idyllic community wasa step
	 too far. And Peter\, previously a unifying presence\,found himself at the
	 centre of a divided village with manywanting to see him held accountable.
	\n\n\n\nWith emotions runninghigh\, the inexperienced local officers are k
	een to narrow inon a prime suspect and bring the case to a close. But as E
	llisdigs deeper\, she uncovers secrets closer to home: a closefriend with 
	a chequered past\, a daughter paralysed with griefand an ex-flame embitter
	ed with resentment. Peter's murderbrings old grudges\, hidden pasts\, and 
	dangerous resentmentsto the surface\, and the more Ellis uncovers\, the mo
	re tangledthe picture becomes.\n\n\n\nIn Ashenham\, long held grievancessi
	mmer just beneath the surface\, and Ellis is determined todrag them into t
	he open. In the end\, one question towers overEllis' investigation: was Pe
	ter killed for his ideals\, or doesthe answer lie in his own circle\, amon
	g those who knew himbest?
DTSTART:20260310T210000Z
DTEND:20260310T230000Z
END:VEVENT
END:VCALENDAR
