BEGIN:VCALENDAR
VERSION:2.0
PRODID:-//InvisionCommunity Events 4.7.23//EN
METHOD:PUBLISH
CALSCALE:GREGORIAN
REFRESH-INTERVAL:PT15M
X-PUBLISHED-TTL:PT15M
X-WR-CALNAME:At My TV
NAME:At My TV
BEGIN:VTIMEZONE
TZID:Europe/London
TZURL:http://tzurl.org/zoneinfo/Europe/London
X-LIC-LOCATION:Europe/London
BEGIN:DAYLIGHT
TZOFFSETFROM:+0000
TZOFFSETTO:+0100
TZNAME:BST
DTSTART:20260329T020000Z
RRULE:FREQ=YEARLY;BYMONTH=3;BYDAY=-1SU
END:DAYLIGHT
BEGIN:STANDARD
TZOFFSETFROM:+0100
TZOFFSETTO:+0000
TZNAME:GMT
DTSTART:20261025T020000Z
RRULE:FREQ=YEARLY;BYMONTH=10;BYDAY=-1SU
END:STANDARD
END:VTIMEZONE
BEGIN:VEVENT
SUMMARY:The Drew Barrymore Show 6x106 - Hilary Duff\, Trisha MannGra
	nt\, Ambyr Michelle
DTSTAMP:20260301T070538Z
SEQUENCE:0
UID:206776-2-841ebed20eb198c4569419e99b7bf40a@themidnightzone.com
ORGANIZER;CN="Midnight":midnight@themidnightzone.com
DESCRIPTION:Sunny Anderson interviews \"Beyond the Gates\" stars Trish
	aMann Grant and Ambyr Michelle. Then\, Sunny makes herPB&amp\;J wings fo
	r Drew.Drew chats with Hilary Duff allabout growing up in the spotlight\
	, motherhood and her returnto pop music with her latest album and tour. 
DTSTART:20260303T050000Z
DTEND:20260303T060000Z
END:VEVENT
END:VCALENDAR
