BEGIN:VCALENDAR
VERSION:2.0
PRODID:-//InvisionCommunity Events 4.7.23//EN
METHOD:PUBLISH
CALSCALE:GREGORIAN
REFRESH-INTERVAL:PT15M
X-PUBLISHED-TTL:PT15M
X-WR-CALNAME:At My TV
NAME:At My TV
BEGIN:VTIMEZONE
TZID:Europe/London
TZURL:http://tzurl.org/zoneinfo/Europe/London
X-LIC-LOCATION:Europe/London
BEGIN:DAYLIGHT
TZOFFSETFROM:+0000
TZOFFSETTO:+0100
TZNAME:BST
DTSTART:20260329T020000Z
RRULE:FREQ=YEARLY;BYMONTH=3;BYDAY=-1SU
END:DAYLIGHT
BEGIN:STANDARD
TZOFFSETFROM:+0100
TZOFFSETTO:+0000
TZNAME:GMT
DTSTART:20261025T020000Z
RRULE:FREQ=YEARLY;BYMONTH=10;BYDAY=-1SU
END:STANDARD
END:VTIMEZONE
BEGIN:VEVENT
SUMMARY:Tamron Hall 7x103 - Tini Younger
DTSTAMP:20260302T070539Z
SEQUENCE:0
UID:206809-2-841ebed20eb198c4569419e99b7bf40a@themidnightzone.com
ORGANIZER;CN="Midnight":midnight@themidnightzone.com
DESCRIPTION:Chef Tini Younger speaks publicly for the first time since t
	heloss of one of her twin daughters. How she is recovering andwhat this ne
	w chapter looks like. Plus\, Tini gets in thekitchen to make a special dis
	h for the Tam Fam and share newsof her new cookbook. Then chef Shaw-Naé D
	ixon cooks up one ofher famous soul food recipes from her popular restaura
	nt andshares how she turned her kitchen into a place of purpose aftera sca
	ry medical incident that left her in a coma.
DTSTART:20260302T050000Z
DTEND:20260302T060000Z
END:VEVENT
END:VCALENDAR
