BEGIN:VCALENDAR
VERSION:2.0
PRODID:-//InvisionCommunity Events 4.7.23//EN
METHOD:PUBLISH
CALSCALE:GREGORIAN
REFRESH-INTERVAL:PT15M
X-PUBLISHED-TTL:PT15M
X-WR-CALNAME:At My TV
NAME:At My TV
BEGIN:VTIMEZONE
TZID:Europe/London
TZURL:http://tzurl.org/zoneinfo/Europe/London
X-LIC-LOCATION:Europe/London
BEGIN:DAYLIGHT
TZOFFSETFROM:+0000
TZOFFSETTO:+0100
TZNAME:BST
DTSTART:20260329T020000Z
RRULE:FREQ=YEARLY;BYMONTH=3;BYDAY=-1SU
END:DAYLIGHT
BEGIN:STANDARD
TZOFFSETFROM:+0100
TZOFFSETTO:+0000
TZNAME:GMT
DTSTART:20261025T020000Z
RRULE:FREQ=YEARLY;BYMONTH=10;BYDAY=-1SU
END:STANDARD
END:VTIMEZONE
BEGIN:VEVENT
SUMMARY:American Idol 24x8 - Top 20 at Disney's Aulani Resort inHawa
	i'i Part 1
DTSTAMP:20260303T070539Z
SEQUENCE:0
UID:206837-2-841ebed20eb198c4569419e99b7bf40a@themidnightzone.com
ORGANIZER;CN="Midnight":midnight@themidnightzone.com
DESCRIPTION:As the competition continues at Aulani\, A Disney Resort &am
	p\;amp:Spa in Ko Olina\, Hawaiʻi\, Brad Paisley and Keke Palmermentor the
	 Top 20 hopefuls. Keke also serves as a guest judge\,while Iam Tongi and T
	hunderstorm Artis perform.
DTSTART:20260317T000000Z
DTEND:20260317T020000Z
END:VEVENT
END:VCALENDAR
