BEGIN:VCALENDAR
VERSION:2.0
PRODID:-//InvisionCommunity Events 4.7.23//EN
METHOD:PUBLISH
CALSCALE:GREGORIAN
REFRESH-INTERVAL:PT15M
X-PUBLISHED-TTL:PT15M
X-WR-CALNAME:At My TV
NAME:At My TV
BEGIN:VTIMEZONE
TZID:Europe/London
TZURL:http://tzurl.org/zoneinfo/Europe/London
X-LIC-LOCATION:Europe/London
BEGIN:DAYLIGHT
TZOFFSETFROM:+0000
TZOFFSETTO:+0100
TZNAME:BST
DTSTART:20260329T020000Z
RRULE:FREQ=YEARLY;BYMONTH=3;BYDAY=-1SU
END:DAYLIGHT
BEGIN:STANDARD
TZOFFSETFROM:+0100
TZOFFSETTO:+0000
TZNAME:GMT
DTSTART:20261025T020000Z
RRULE:FREQ=YEARLY;BYMONTH=10;BYDAY=-1SU
END:STANDARD
END:VTIMEZONE
BEGIN:VEVENT
SUMMARY:Survivor 50x4 - Knife to the Heart
DTSTAMP:20260305T070540Z
SEQUENCE:0
UID:206968-2-841ebed20eb198c4569419e99b7bf40a@themidnightzone.com
ORGANIZER;CN="Midnight":midnight@themidnightzone.com
DESCRIPTION:Castaways help pass the time on their beach by hosting the\"
	SURVIVOR 50 Talent Show.\" Another boomerang idol isdiscovered\, and playe
	rs must decide whether to send it to anally or an adversary. Then\, the bi
	ggest reward of the seasonis on the line as tribes compete for  immunity 
	and a specialafternoon with country music star and SURVIVOR superfan\, Zac
	Brown.
DTSTART:20260319T000000Z
DTEND:20260319T013000Z
END:VEVENT
END:VCALENDAR
