BEGIN:VCALENDAR
VERSION:2.0
PRODID:-//InvisionCommunity Events 4.7.23//EN
METHOD:PUBLISH
CALSCALE:GREGORIAN
REFRESH-INTERVAL:PT15M
X-PUBLISHED-TTL:PT15M
X-WR-CALNAME:At My TV
NAME:At My TV
BEGIN:VTIMEZONE
TZID:Europe/London
TZURL:http://tzurl.org/zoneinfo/Europe/London
X-LIC-LOCATION:Europe/London
BEGIN:DAYLIGHT
TZOFFSETFROM:+0000
TZOFFSETTO:+0100
TZNAME:BST
DTSTART:20260329T020000Z
RRULE:FREQ=YEARLY;BYMONTH=3;BYDAY=-1SU
END:DAYLIGHT
BEGIN:STANDARD
TZOFFSETFROM:+0100
TZOFFSETTO:+0000
TZNAME:GMT
DTSTART:20261025T020000Z
RRULE:FREQ=YEARLY;BYMONTH=10;BYDAY=-1SU
END:STANDARD
END:VTIMEZONE
BEGIN:VEVENT
SUMMARY:The View 29x121 - Sheryl Underwood\, Valerie Bertinelli\, Ca
	stof \"The Secret Lives of Mormon Wives\"
DTSTAMP:20260307T070541Z
SEQUENCE:0
UID:207063-2-841ebed20eb198c4569419e99b7bf40a@themidnightzone.com
ORGANIZER;CN="Midnight":midnight@themidnightzone.com
DESCRIPTION:Sheryl Underwood guest co-hosts: Valerie Bertinelli (author\
	,\"Getting Naked\")\; Whitney Leavitt\, Mikayla Matthews and MayciNeeley (
	cast\, \"The Secret Lives of Mormon Wives\").
DTSTART:20260311T150000Z
DTEND:20260311T160000Z
END:VEVENT
END:VCALENDAR
