BEGIN:VCALENDAR
VERSION:2.0
PRODID:-//InvisionCommunity Events 4.7.23//EN
METHOD:PUBLISH
CALSCALE:GREGORIAN
REFRESH-INTERVAL:PT15M
X-PUBLISHED-TTL:PT15M
X-WR-CALNAME:At My TV
NAME:At My TV
BEGIN:VTIMEZONE
TZID:Europe/London
TZURL:http://tzurl.org/zoneinfo/Europe/London
X-LIC-LOCATION:Europe/London
BEGIN:DAYLIGHT
TZOFFSETFROM:+0000
TZOFFSETTO:+0100
TZNAME:BST
DTSTART:20260329T020000Z
RRULE:FREQ=YEARLY;BYMONTH=3;BYDAY=-1SU
END:DAYLIGHT
BEGIN:STANDARD
TZOFFSETFROM:+0100
TZOFFSETTO:+0000
TZNAME:GMT
DTSTART:20261025T020000Z
RRULE:FREQ=YEARLY;BYMONTH=10;BYDAY=-1SU
END:STANDARD
END:VTIMEZONE
BEGIN:VEVENT
SUMMARY:The Motorway Cops: Catching Britain's Speeders 9x6 - Episode
	 6
DTSTAMP:20260307T070541Z
SEQUENCE:0
UID:207074-2-841ebed20eb198c4569419e99b7bf40a@themidnightzone.com
ORGANIZER;CN="Midnight":midnight@themidnightzone.com
DESCRIPTION:PC Luke Thundercliffe is first on the scene when a call come
	sin from a member of the public\, reporting a car crash with twooccupants 
	and a driver who stinks of alcohol. Sgt Tom Elvidgeraces to Driffield in E
	ast Yorkshire after a white transit vanattempts to ram a police car off th
	e road\, with the occupantsthrowing a hammer at the pursuing car.
DTSTART:20260309T200000Z
DTEND:20260309T210000Z
END:VEVENT
END:VCALENDAR
