BEGIN:VCALENDAR
VERSION:2.0
PRODID:-//InvisionCommunity Events 4.7.23//EN
METHOD:PUBLISH
CALSCALE:GREGORIAN
REFRESH-INTERVAL:PT15M
X-PUBLISHED-TTL:PT15M
X-WR-CALNAME:At My TV
NAME:At My TV
BEGIN:VTIMEZONE
TZID:Europe/London
TZURL:http://tzurl.org/zoneinfo/Europe/London
X-LIC-LOCATION:Europe/London
BEGIN:DAYLIGHT
TZOFFSETFROM:+0000
TZOFFSETTO:+0100
TZNAME:BST
DTSTART:20260329T020000Z
RRULE:FREQ=YEARLY;BYMONTH=3;BYDAY=-1SU
END:DAYLIGHT
BEGIN:STANDARD
TZOFFSETFROM:+0100
TZOFFSETTO:+0000
TZNAME:GMT
DTSTART:20261025T020000Z
RRULE:FREQ=YEARLY;BYMONTH=10;BYDAY=-1SU
END:STANDARD
END:VTIMEZONE
BEGIN:VEVENT
SUMMARY:The Kelly Clarkson Show 7x90 - Jenna Bush Hager\, SheinelleJ
	ones\, Tom Ellis\, Colin Cowie
DTSTAMP:20260308T070541Z
SEQUENCE:0
UID:207115-2-841ebed20eb198c4569419e99b7bf40a@themidnightzone.com
ORGANIZER;CN="Midnight":midnight@themidnightzone.com
DESCRIPTION:Kellyoke Encore: Let Your Tears Fall/ Jenna Bush Hager andSh
	einelle Jones/ Tom Ellis/ Colin Cowie/ Bargains and Dealswith Lawrence Zar
	ian (MorningSave)/ Kelly Extra: Tom Blyth andEmily Bader/ WIL: Book Brigad
	e. 
DTSTART:20260311T040000Z
DTEND:20260311T050000Z
END:VEVENT
END:VCALENDAR
