BEGIN:VCALENDAR
VERSION:2.0
PRODID:-//InvisionCommunity Events 4.7.23//EN
METHOD:PUBLISH
CALSCALE:GREGORIAN
REFRESH-INTERVAL:PT15M
X-PUBLISHED-TTL:PT15M
X-WR-CALNAME:Pogdesign
NAME:Pogdesign
BEGIN:VTIMEZONE
TZID:Europe/London
TZURL:http://tzurl.org/zoneinfo/Europe/London
X-LIC-LOCATION:Europe/London
BEGIN:DAYLIGHT
TZOFFSETFROM:+0000
TZOFFSETTO:+0100
TZNAME:BST
DTSTART:20260329T020000Z
RRULE:FREQ=YEARLY;BYMONTH=3;BYDAY=-1SU
END:DAYLIGHT
BEGIN:STANDARD
TZOFFSETFROM:+0100
TZOFFSETTO:+0000
TZNAME:GMT
DTSTART:20261025T020000Z
RRULE:FREQ=YEARLY;BYMONTH=10;BYDAY=-1SU
END:STANDARD
END:VTIMEZONE
BEGIN:VEVENT
SUMMARY:The Floor S05E04 - \nFireworks on the Floor
DTSTAMP:20260409T110902Z
SEQUENCE:0
UID:208533-3-841ebed20eb198c4569419e99b7bf40a@themidnightzone.com
ORGANIZER;CN="Midnight":midnight@themidnightzone.com
DESCRIPTION:Fireworks light up The Floor\, hosted by Rob Lowe\, explodin
	gthe atmosphere as one whale makes a series of jaw-droppingdecisions that 
	throw the whole competition into disarray.Across the board\, another playe
	r ignites a bitter grudge thatwon't be forgotten anytime soon. Payback alw
	ays comesaround\, and there is only one player who walks away with alife-c
	hanging 0\,000 prize.
DTSTART:20260422T235900Z
DTEND:20260423T005900Z
END:VEVENT
END:VCALENDAR
