BEGIN:VCALENDAR
VERSION:2.0
PRODID:-//InvisionCommunity Events 4.7.23//EN
METHOD:PUBLISH
CALSCALE:GREGORIAN
REFRESH-INTERVAL:PT15M
X-PUBLISHED-TTL:PT15M
X-WR-CALNAME:At My TV
NAME:At My TV
BEGIN:VTIMEZONE
TZID:Europe/London
TZURL:http://tzurl.org/zoneinfo/Europe/London
X-LIC-LOCATION:Europe/London
BEGIN:DAYLIGHT
TZOFFSETFROM:+0000
TZOFFSETTO:+0100
TZNAME:BST
DTSTART:20260329T020000Z
RRULE:FREQ=YEARLY;BYMONTH=3;BYDAY=-1SU
END:DAYLIGHT
BEGIN:STANDARD
TZOFFSETFROM:+0100
TZOFFSETTO:+0000
TZNAME:GMT
DTSTART:20261025T020000Z
RRULE:FREQ=YEARLY;BYMONTH=10;BYDAY=-1SU
END:STANDARD
END:VTIMEZONE
BEGIN:VEVENT
SUMMARY:Top Chef 23x8 - Restaurant Wars
DTSTAMP:20260414T070606Z
SEQUENCE:0
UID:208695-2-841ebed20eb198c4569419e99b7bf40a@themidnightzone.com
ORGANIZER;CN="Midnight":midnight@themidnightzone.com
DESCRIPTION:It's Restaurant Wars and this season the perennial favoriter
	eturns with a twist! The chefs split into two teams of fourand are tasked 
	with developing restaurant concepts. Each teammust present a three-course 
	progressive menu\, offering twooptions for every course. To add to the pre
	ssure\, they mustserve 100 guests while also fielding to-go orders in the 
	middleof it all. Kristen\, Tom and Gail are joined at the judges'table by 
	restaurateur Michael Mina and Clare Reichenbach\, CEOof the James Beard Fo
	undation. Before it all begins\, thecheftestants receive news that reshape
	s their dynamics.
DTSTART:20260428T013000Z
DTEND:20260428T024500Z
END:VEVENT
END:VCALENDAR
