BEGIN:VCALENDAR
VERSION:2.0
PRODID:-//InvisionCommunity Events 4.7.23//EN
METHOD:PUBLISH
CALSCALE:GREGORIAN
REFRESH-INTERVAL:PT15M
X-PUBLISHED-TTL:PT15M
X-WR-CALNAME:At My TV
NAME:At My TV
BEGIN:VTIMEZONE
TZID:Europe/London
TZURL:http://tzurl.org/zoneinfo/Europe/London
X-LIC-LOCATION:Europe/London
BEGIN:DAYLIGHT
TZOFFSETFROM:+0000
TZOFFSETTO:+0100
TZNAME:BST
DTSTART:20260329T020000Z
RRULE:FREQ=YEARLY;BYMONTH=3;BYDAY=-1SU
END:DAYLIGHT
BEGIN:STANDARD
TZOFFSETFROM:+0100
TZOFFSETTO:+0000
TZNAME:GMT
DTSTART:20261025T020000Z
RRULE:FREQ=YEARLY;BYMONTH=10;BYDAY=-1SU
END:STANDARD
END:VTIMEZONE
BEGIN:VEVENT
SUMMARY:The Motorway Cops: Catching Britain's Speeders 10x2 - Episod
	e 2
DTSTAMP:20260417T070608Z
SEQUENCE:0
UID:208831-2-841ebed20eb198c4569419e99b7bf40a@themidnightzone.com
ORGANIZER;CN="Midnight":midnight@themidnightzone.com
DESCRIPTION:PC Ed Clarke responds to a 999 call from a worried driver wh
	ois behind a van on the M6 that is all over the road and hasnearly collide
	d with the central reservation. When Ed gets eyeson the vehicle\, the dang
	erous driving is clear to see and abreathalyser test at twice the drink dr
	ive limit explainseverything. On the night shift\, PCs Kara Pilarczyk and 
	TomCordall pull over a delivery driver for not wearing hisseatbelt\, but t
	he man's evasive behaviour raises suspicions.
DTSTART:20260420T190000Z
DTEND:20260420T200000Z
END:VEVENT
END:VCALENDAR
