BEGIN:VCALENDAR
VERSION:2.0
PRODID:-//InvisionCommunity Events 4.7.23//EN
METHOD:PUBLISH
CALSCALE:GREGORIAN
REFRESH-INTERVAL:PT15M
X-PUBLISHED-TTL:PT15M
X-WR-CALNAME:At My TV
NAME:At My TV
BEGIN:VTIMEZONE
TZID:Europe/London
TZURL:http://tzurl.org/zoneinfo/Europe/London
X-LIC-LOCATION:Europe/London
BEGIN:DAYLIGHT
TZOFFSETFROM:+0000
TZOFFSETTO:+0100
TZNAME:BST
DTSTART:20260329T020000Z
RRULE:FREQ=YEARLY;BYMONTH=3;BYDAY=-1SU
END:DAYLIGHT
BEGIN:STANDARD
TZOFFSETFROM:+0100
TZOFFSETTO:+0000
TZNAME:GMT
DTSTART:20261025T020000Z
RRULE:FREQ=YEARLY;BYMONTH=10;BYDAY=-1SU
END:STANDARD
END:VTIMEZONE
BEGIN:VEVENT
SUMMARY:The Jennifer Hudson Show 4x120 - Jason Ritter
DTSTAMP:20260420T070612Z
SEQUENCE:0
UID:208924-2-841ebed20eb198c4569419e99b7bf40a@themidnightzone.com
ORGANIZER;CN="Midnight":midnight@themidnightzone.com
DESCRIPTION:Actor Jason Ritter stops by to talk about \"Matlock.\" Fa
	shionAlert! Jennifer welcomes back fashion and lifestylecreator Kira Abbo
	ud. She'll share some Spring FashionHacks. Then\, Jennifer welcomes Al
	fredo and EduardoGarcia from Waco\, Texas. Eduardo and Alfredo are thec
	o-owners of Helados La Azteca\, a Mexican ice cream andpopsicle company 
	founded by Alfredo\, and they have quicklygone viral for their paleta-maki
	ng videos. 
DTSTART:20260423T040000Z
DTEND:20260423T050000Z
END:VEVENT
END:VCALENDAR
