BEGIN:VCALENDAR
VERSION:2.0
PRODID:-//InvisionCommunity Events 4.7.23//EN
METHOD:PUBLISH
CALSCALE:GREGORIAN
REFRESH-INTERVAL:PT15M
X-PUBLISHED-TTL:PT15M
X-WR-CALNAME:At My TV
NAME:At My TV
BEGIN:VTIMEZONE
TZID:Europe/London
TZURL:http://tzurl.org/zoneinfo/Europe/London
X-LIC-LOCATION:Europe/London
BEGIN:DAYLIGHT
TZOFFSETFROM:+0000
TZOFFSETTO:+0100
TZNAME:BST
DTSTART:20260329T020000Z
RRULE:FREQ=YEARLY;BYMONTH=3;BYDAY=-1SU
END:DAYLIGHT
BEGIN:STANDARD
TZOFFSETFROM:+0100
TZOFFSETTO:+0000
TZNAME:GMT
DTSTART:20261025T020000Z
RRULE:FREQ=YEARLY;BYMONTH=10;BYDAY=-1SU
END:STANDARD
END:VTIMEZONE
BEGIN:VEVENT
SUMMARY:The Jennifer Hudson Show 4x119 - Cast of \"Michael\"
DTSTAMP:20260420T070612Z
SEQUENCE:0
UID:208926-2-841ebed20eb198c4569419e99b7bf40a@themidnightzone.com
ORGANIZER;CN="Midnight":midnight@themidnightzone.com
DESCRIPTION:Jennifer sits down for an exclusive interview with the cast
	of \"Michael\" — Colman Domingo\, JaafarJackson\, and Juliano 
	Valdi — to discuss the highlyanticipated film.Plus\, Jennifer welcome
	s Renee Watson fromHawthorne\, California\, and Maile Bellosi from Sa
	n JuanCapistrano\, California. What began as a shared teaching careerbecam
	e an extraordinary act of love when Renee donated a kidneyto her longtime 
	friend Maile\, giving her renewed life and hopefor the future. They share 
	their remarkable story withJennifer.  
DTSTART:20260422T040000Z
DTEND:20260422T050000Z
END:VEVENT
END:VCALENDAR
