BEGIN:VCALENDAR
VERSION:2.0
PRODID:-//InvisionCommunity Events 4.7.23//EN
METHOD:PUBLISH
CALSCALE:GREGORIAN
REFRESH-INTERVAL:PT15M
X-PUBLISHED-TTL:PT15M
X-WR-CALNAME:At My TV
NAME:At My TV
BEGIN:VTIMEZONE
TZID:Europe/London
TZURL:http://tzurl.org/zoneinfo/Europe/London
X-LIC-LOCATION:Europe/London
BEGIN:DAYLIGHT
TZOFFSETFROM:+0000
TZOFFSETTO:+0100
TZNAME:BST
DTSTART:20260329T020000Z
RRULE:FREQ=YEARLY;BYMONTH=3;BYDAY=-1SU
END:DAYLIGHT
BEGIN:STANDARD
TZOFFSETFROM:+0100
TZOFFSETTO:+0000
TZNAME:GMT
DTSTART:20261025T020000Z
RRULE:FREQ=YEARLY;BYMONTH=10;BYDAY=-1SU
END:STANDARD
END:VTIMEZONE
BEGIN:VEVENT
SUMMARY:Sherri 4x117 - Blair Underwood\, Bone Hampton
DTSTAMP:20260420T070612Z
SEQUENCE:0
UID:208931-2-841ebed20eb198c4569419e99b7bf40a@themidnightzone.com
ORGANIZER;CN="Midnight":midnight@themidnightzone.com
DESCRIPTION:Sherri kicks off the show with laughs in The Stand-UpSpot.Ac
	tor Blair Underwood tells Sherri about his new memoir\,\"A Soldier's Wife:
	 My Mother\, the Marvelous Mrs. Marilyn A.Underwood.\"Comedian Bone Hampto
	n updates Sherri on his healthand performs his latest stand-up.Online shop
	ping deals from ourfriends at MorningSave.com.
DTSTART:20260420T040000Z
DTEND:20260420T050000Z
END:VEVENT
END:VCALENDAR
