BEGIN:VCALENDAR
VERSION:2.0
PRODID:-//InvisionCommunity Events 4.7.23//EN
METHOD:PUBLISH
CALSCALE:GREGORIAN
REFRESH-INTERVAL:PT15M
X-PUBLISHED-TTL:PT15M
X-WR-CALNAME:At My TV
NAME:At My TV
BEGIN:VTIMEZONE
TZID:Europe/London
TZURL:http://tzurl.org/zoneinfo/Europe/London
X-LIC-LOCATION:Europe/London
BEGIN:DAYLIGHT
TZOFFSETFROM:+0000
TZOFFSETTO:+0100
TZNAME:BST
DTSTART:20260329T020000Z
RRULE:FREQ=YEARLY;BYMONTH=3;BYDAY=-1SU
END:DAYLIGHT
BEGIN:STANDARD
TZOFFSETFROM:+0100
TZOFFSETTO:+0000
TZNAME:GMT
DTSTART:20261025T020000Z
RRULE:FREQ=YEARLY;BYMONTH=10;BYDAY=-1SU
END:STANDARD
END:VTIMEZONE
BEGIN:VEVENT
SUMMARY:First Dates 25x3 - Episode 3
DTSTAMP:20260421T150610Z
SEQUENCE:0
UID:208980-2-841ebed20eb198c4569419e99b7bf40a@themidnightzone.com
ORGANIZER;CN="Midnight":midnight@themidnightzone.com
DESCRIPTION:Former nanny Amber wants to have beautiful babies on a farm 
	-but it remains to be seen whether her dashing date has the filmstar looks
	 she is after. Magician Clint is keen to conjure up ameaningful connection
	 with kooky artist Sanna from Finland\,while 79-year-old man about town Ja
	n hopes to be free-spirited74-year-old widow Chrissy's perfect leading man
	.
DTSTART:20260424T210000Z
DTEND:20260424T220000Z
END:VEVENT
END:VCALENDAR
