BEGIN:VCALENDAR
VERSION:2.0
PRODID:-//InvisionCommunity Events 4.7.23//EN
METHOD:PUBLISH
CALSCALE:GREGORIAN
REFRESH-INTERVAL:PT15M
X-PUBLISHED-TTL:PT15M
X-WR-CALNAME:At My TV
NAME:At My TV
BEGIN:VTIMEZONE
TZID:Europe/London
TZURL:http://tzurl.org/zoneinfo/Europe/London
X-LIC-LOCATION:Europe/London
BEGIN:DAYLIGHT
TZOFFSETFROM:+0000
TZOFFSETTO:+0100
TZNAME:BST
DTSTART:20260329T020000Z
RRULE:FREQ=YEARLY;BYMONTH=3;BYDAY=-1SU
END:DAYLIGHT
BEGIN:STANDARD
TZOFFSETFROM:+0100
TZOFFSETTO:+0000
TZNAME:GMT
DTSTART:20261025T020000Z
RRULE:FREQ=YEARLY;BYMONTH=10;BYDAY=-1SU
END:STANDARD
END:VTIMEZONE
BEGIN:VEVENT
SUMMARY:Tamron Hall 7x142 - Summer Parenting Unfiltered
DTSTAMP:20260421T150610Z
SEQUENCE:0
UID:208983-2-841ebed20eb198c4569419e99b7bf40a@themidnightzone.com
ORGANIZER;CN="Midnight":midnight@themidnightzone.com
DESCRIPTION:Two moms open up about the guilt they feel for not alwayswan
	ting to play with their children. Then\, certified consciousparenting coac
	h REEM RAOUDA shares how parents can stay presentwith their kids without l
	osing themselves. Later\, mom of fourand licensed clinical psychologist CH
	ANDA REYNOLDS discusseshow kids can preserve their individuality while sha
	ring roomswith siblings. Public health educator DORIAN JOHNSON\, known ast
	he \"Phuncle\,\" offers tips on raising resilient\, healthykids. Plus\, ne
	wlyweds explain how moving back in with theirparents helped them get on th
	eir feet and start their new lifetogether.
DTSTART:20260424T040000Z
DTEND:20260424T050000Z
END:VEVENT
END:VCALENDAR
