BEGIN:VCALENDAR
VERSION:2.0
PRODID:-//InvisionCommunity Events 4.7.23//EN
METHOD:PUBLISH
CALSCALE:GREGORIAN
REFRESH-INTERVAL:PT15M
X-PUBLISHED-TTL:PT15M
X-WR-CALNAME:At My TV
NAME:At My TV
BEGIN:VTIMEZONE
TZID:Europe/London
TZURL:http://tzurl.org/zoneinfo/Europe/London
X-LIC-LOCATION:Europe/London
BEGIN:DAYLIGHT
TZOFFSETFROM:+0000
TZOFFSETTO:+0100
TZNAME:BST
DTSTART:20260329T020000Z
RRULE:FREQ=YEARLY;BYMONTH=3;BYDAY=-1SU
END:DAYLIGHT
BEGIN:STANDARD
TZOFFSETFROM:+0100
TZOFFSETTO:+0000
TZNAME:GMT
DTSTART:20261025T020000Z
RRULE:FREQ=YEARLY;BYMONTH=10;BYDAY=-1SU
END:STANDARD
END:VTIMEZONE
BEGIN:VEVENT
SUMMARY:Tamron Hall 7x141 - Familee Day with Keith Lee
DTSTAMP:20260421T150610Z
SEQUENCE:0
UID:208988-2-841ebed20eb198c4569419e99b7bf40a@themidnightzone.com
ORGANIZER;CN="Midnight":midnight@themidnightzone.com
DESCRIPTION:Global social media star KEITH LEE brings a taste of his New
	Orleans food festival to the Tam Fam. Viral Californiapitmaster WALTER JOH
	NSON\, known as \"Mr. Tendernism\,\" meetsKeith Lee for the first time and
	 they make an exclusiveannouncement. And a taste of festival favorites\, i
	ncludingbanana pudding from JANEL PRATOR'S THE PUDDERY. Then\, anEXCLUSIVE
	 sneak-peek performance from New Orleans' own FLAGBOYGIZ.
DTSTART:20260423T040000Z
DTEND:20260423T050000Z
END:VEVENT
END:VCALENDAR
