BEGIN:VCALENDAR
VERSION:2.0
PRODID:-//InvisionCommunity Events 4.7.23//EN
METHOD:PUBLISH
CALSCALE:GREGORIAN
REFRESH-INTERVAL:PT15M
X-PUBLISHED-TTL:PT15M
X-WR-CALNAME:At My TV
NAME:At My TV
BEGIN:VTIMEZONE
TZID:Europe/London
TZURL:http://tzurl.org/zoneinfo/Europe/London
X-LIC-LOCATION:Europe/London
BEGIN:DAYLIGHT
TZOFFSETFROM:+0000
TZOFFSETTO:+0100
TZNAME:BST
DTSTART:20260329T020000Z
RRULE:FREQ=YEARLY;BYMONTH=3;BYDAY=-1SU
END:DAYLIGHT
BEGIN:STANDARD
TZOFFSETFROM:+0100
TZOFFSETTO:+0000
TZNAME:GMT
DTSTART:20261025T020000Z
RRULE:FREQ=YEARLY;BYMONTH=10;BYDAY=-1SU
END:STANDARD
END:VTIMEZONE
BEGIN:VEVENT
SUMMARY:The Only Way is Essex 36x1 - Episode 1
DTSTAMP:20260422T070615Z
SEQUENCE:0
UID:209013-2-841ebed20eb198c4569419e99b7bf40a@themidnightzone.com
ORGANIZER;CN="Midnight":midnight@themidnightzone.com
DESCRIPTION:Our favourite Essex crew are back! What better way to celebr
	atethe gang all being back together than heading out to Vietnamfor some wi
	nter sun... and drama! Before they go\, they allcome together to celebrate
	 Jordan and Sophie at their genderreveal. Will Essex's newest arrival be a
	 boy or a girl? InVietnam\, there is trouble in paradise for Diags and Jo
	die.Meanwhile\, Ella and Dan come face to face for the first timesince see
	ing each other at Christmas. Will things hot up\, orcan they be friends as
	 they both insist? Later\, Ellacontemplates making up with Freddie\, which
	 prompts discussionin the group. When Dani expresses that she doesn't want
	 to hearany 'Freddie Slander'\, tensions rise as Livvy and Dani have aheat
	ed discussion. With conflict already sky high after nightone\, what does t
	his mean for the rest of the trip?
DTSTART:20260426T200000Z
DTEND:20260426T210000Z
END:VEVENT
END:VCALENDAR
