BEGIN:VCALENDAR
VERSION:2.0
PRODID:-//InvisionCommunity Events 4.7.23//EN
METHOD:PUBLISH
CALSCALE:GREGORIAN
REFRESH-INTERVAL:PT15M
X-PUBLISHED-TTL:PT15M
X-WR-CALNAME:At My TV
NAME:At My TV
BEGIN:VTIMEZONE
TZID:Europe/London
TZURL:http://tzurl.org/zoneinfo/Europe/London
X-LIC-LOCATION:Europe/London
BEGIN:DAYLIGHT
TZOFFSETFROM:+0000
TZOFFSETTO:+0100
TZNAME:BST
DTSTART:20260329T020000Z
RRULE:FREQ=YEARLY;BYMONTH=3;BYDAY=-1SU
END:DAYLIGHT
BEGIN:STANDARD
TZOFFSETFROM:+0100
TZOFFSETTO:+0000
TZNAME:GMT
DTSTART:20261025T020000Z
RRULE:FREQ=YEARLY;BYMONTH=10;BYDAY=-1SU
END:STANDARD
END:VTIMEZONE
BEGIN:VEVENT
SUMMARY:Britain's Got Talent 19x9 - Live Semi-Final 1
DTSTAMP:20260422T070615Z
SEQUENCE:0
UID:209014-2-841ebed20eb198c4569419e99b7bf40a@themidnightzone.com
ORGANIZER;CN="Midnight":midnight@themidnightzone.com
DESCRIPTION:Ant and Dec host the first live semi-final as acts that made
	 itthrough the audition rounds perform in front of the judges anda live au
	dience for a chance at a place in the final. Viewershold the power to vote
	 for their favourite acts of the night tosend through to the ultimate stag
	e of the competition\, and thejudges have their Golden Buzzer that can rew
	ard outstandingperformers a ticket straight through.
DTSTART:20260425T180000Z
DTEND:20260425T195700Z
END:VEVENT
END:VCALENDAR
