BEGIN:VCALENDAR
VERSION:2.0
PRODID:-//InvisionCommunity Events 4.7.23//EN
METHOD:PUBLISH
CALSCALE:GREGORIAN
REFRESH-INTERVAL:PT15M
X-PUBLISHED-TTL:PT15M
X-WR-CALNAME:Pogdesign
NAME:Pogdesign
BEGIN:VTIMEZONE
TZID:Europe/London
TZURL:http://tzurl.org/zoneinfo/Europe/London
X-LIC-LOCATION:Europe/London
BEGIN:DAYLIGHT
TZOFFSETFROM:+0000
TZOFFSETTO:+0100
TZNAME:BST
DTSTART:20260329T020000Z
RRULE:FREQ=YEARLY;BYMONTH=3;BYDAY=-1SU
END:DAYLIGHT
BEGIN:STANDARD
TZOFFSETFROM:+0100
TZOFFSETTO:+0000
TZNAME:GMT
DTSTART:20261025T020000Z
RRULE:FREQ=YEARLY;BYMONTH=10;BYDAY=-1SU
END:STANDARD
END:VTIMEZONE
BEGIN:VEVENT
SUMMARY:Kevin S01E02 - \nAnimal of the Month
DTSTAMP:20260422T190902Z
SEQUENCE:0
UID:209103-3-841ebed20eb198c4569419e99b7bf40a@themidnightzone.com
ORGANIZER;CN="Midnight":midnight@themidnightzone.com
DESCRIPTION:After being named &amp\;quot:Animal of the Month&amp\;quot:\
	, Kevinstruggles to fill out his \"adoption profile\" on theFurrever Frien
	ds website. In order to figure out what type ofperson he's looking for\, K
	evin decides to hit thestreets with Cupcake to see her New York. An excite
	d Judyescorts Armando to his nail appointment\, but they both end upgoing 
	home with an unlikely potential human companion.
DTSTART:20260421T235900Z
DTEND:20260422T002900Z
END:VEVENT
END:VCALENDAR
