BEGIN:VCALENDAR
VERSION:2.0
PRODID:-//InvisionCommunity Events 4.7.23//EN
METHOD:PUBLISH
CALSCALE:GREGORIAN
REFRESH-INTERVAL:PT15M
X-PUBLISHED-TTL:PT15M
X-WR-CALNAME:At My TV
NAME:At My TV
BEGIN:VTIMEZONE
TZID:Europe/London
TZURL:http://tzurl.org/zoneinfo/Europe/London
X-LIC-LOCATION:Europe/London
BEGIN:DAYLIGHT
TZOFFSETFROM:+0000
TZOFFSETTO:+0100
TZNAME:BST
DTSTART:20140330T020000Z
RRULE:FREQ=YEARLY;BYMONTH=3;BYDAY=-1SU
END:DAYLIGHT
BEGIN:STANDARD
TZOFFSETFROM:+0100
TZOFFSETTO:+0000
TZNAME:GMT
DTSTART:20141026T020000Z
RRULE:FREQ=YEARLY;BYMONTH=10;BYDAY=-1SU
END:STANDARD
END:VTIMEZONE
BEGIN:VEVENT
SUMMARY:Supernatural 10x8 - Hibbing 911
DTSTAMP:20141203T185012Z
SEQUENCE:0
UID:25140-2-841ebed20eb198c4569419e99b7bf40a@themidnightzone.com
ORGANIZER;CN="Midnight":midnight@themidnightzone.com
DESCRIPTION:\nJody Mills reluctantly attends a mandatory sheriff's retre
	atand is partnered with an overeager sheriff named Donna whowants to bond.
	 Just as Jody thinks things can't get any worse\,a body with just strings 
	of meat and skin hanging off the bonesis discovered. While the local sheri
	ffs blame an animalattack\, Jody knows better and calls Sam and Dean.\n
DTSTART:20141203T020000Z
DTEND:20141203T030000Z
END:VEVENT
END:VCALENDAR
