BEGIN:VCALENDAR
VERSION:2.0
PRODID:-//InvisionCommunity Events 4.7.23//EN
METHOD:PUBLISH
CALSCALE:GREGORIAN
REFRESH-INTERVAL:PT15M
X-PUBLISHED-TTL:PT15M
X-WR-CALNAME:At My TV
NAME:At My TV
BEGIN:VTIMEZONE
TZID:Europe/London
TZURL:http://tzurl.org/zoneinfo/Europe/London
X-LIC-LOCATION:Europe/London
BEGIN:DAYLIGHT
TZOFFSETFROM:+0000
TZOFFSETTO:+0100
TZNAME:BST
DTSTART:20140330T020000Z
RRULE:FREQ=YEARLY;BYMONTH=3;BYDAY=-1SU
END:DAYLIGHT
BEGIN:STANDARD
TZOFFSETFROM:+0100
TZOFFSETTO:+0000
TZNAME:GMT
DTSTART:20141026T020000Z
RRULE:FREQ=YEARLY;BYMONTH=10;BYDAY=-1SU
END:STANDARD
END:VTIMEZONE
BEGIN:VEVENT
SUMMARY:Pawn Stars 9x30 - Motorcycle Mayhem
DTSTAMP:20141216T095653Z
SEQUENCE:0
UID:25926-2-841ebed20eb198c4569419e99b7bf40a@themidnightzone.com
ORGANIZER;CN="Midnight":midnight@themidnightzone.com
DESCRIPTION:\nRev your engines with the Pawn Stars when a 1957Harley-Dav
	idson Sportster roars into the shop. Will Corey beable to hammer down on t
	he deal or will it burnout? Then\,things get political when Rick checks ou
	t a painting ofCommunist leader Ho Chi Minh. Will he make a revolutionaryd
	eal\, or will it be a tough loss? And later\, when Chum startshelping hims
	elf to things around the shop\, the guys try totell him that taking is not
	 the same as sharing. Will Chumteach them a lesson\, or learn the hard way
	?\n
DTSTART:20141223T023000Z
DTEND:20141223T030000Z
END:VEVENT
END:VCALENDAR
