BEGIN:VCALENDAR
VERSION:2.0
PRODID:-//InvisionCommunity Events 4.7.23//EN
METHOD:PUBLISH
CALSCALE:GREGORIAN
REFRESH-INTERVAL:PT15M
X-PUBLISHED-TTL:PT15M
X-WR-CALNAME:At My TV
NAME:At My TV
BEGIN:VTIMEZONE
TZID:Europe/London
TZURL:http://tzurl.org/zoneinfo/Europe/London
X-LIC-LOCATION:Europe/London
BEGIN:DAYLIGHT
TZOFFSETFROM:+0000
TZOFFSETTO:+0100
TZNAME:BST
DTSTART:20150329T020000Z
RRULE:FREQ=YEARLY;BYMONTH=3;BYDAY=-1SU
END:DAYLIGHT
BEGIN:STANDARD
TZOFFSETFROM:+0100
TZOFFSETTO:+0000
TZNAME:GMT
DTSTART:20151025T020000Z
RRULE:FREQ=YEARLY;BYMONTH=10;BYDAY=-1SU
END:STANDARD
END:VTIMEZONE
BEGIN:VEVENT
SUMMARY:State of Affairs 1x8 - Ghosts
DTSTAMP:20150104T150041Z
SEQUENCE:0
UID:26595-2-841ebed20eb198c4569419e99b7bf40a@themidnightzone.com
ORGANIZER;CN="Midnight":midnight@themidnightzone.com
DESCRIPTION:\nAfter FARC (The Revolutionary Forces of Colombia) kidnap J
	ackDawkins from a Panamanian prison and hold him for ransom\, theteam has 
	to pinpoint his location and extract him before timeruns out. Charlie come
	s back to Langley to coordinate theBellerophon op\, while Maureen struggle
	s to fill her shoes asPresident Payton’s briefer.\n
DTSTART:20150113T030000Z
DTEND:20150113T040000Z
END:VEVENT
END:VCALENDAR
