BEGIN:VCALENDAR
VERSION:2.0
PRODID:-//InvisionCommunity Events 4.7.23//EN
METHOD:PUBLISH
CALSCALE:GREGORIAN
REFRESH-INTERVAL:PT15M
X-PUBLISHED-TTL:PT15M
X-WR-CALNAME:At My TV
NAME:At My TV
BEGIN:VTIMEZONE
TZID:Europe/London
TZURL:http://tzurl.org/zoneinfo/Europe/London
X-LIC-LOCATION:Europe/London
BEGIN:DAYLIGHT
TZOFFSETFROM:+0000
TZOFFSETTO:+0100
TZNAME:BST
DTSTART:20150329T020000Z
RRULE:FREQ=YEARLY;BYMONTH=3;BYDAY=-1SU
END:DAYLIGHT
BEGIN:STANDARD
TZOFFSETFROM:+0100
TZOFFSETTO:+0000
TZNAME:GMT
DTSTART:20151025T020000Z
RRULE:FREQ=YEARLY;BYMONTH=10;BYDAY=-1SU
END:STANDARD
END:VTIMEZONE
BEGIN:VEVENT
SUMMARY:Arrow 3x11 - Midnight City
DTSTAMP:20150115T055340Z
SEQUENCE:0
UID:27227-2-841ebed20eb198c4569419e99b7bf40a@themidnightzone.com
ORGANIZER;CN="Midnight":midnight@themidnightzone.com
DESCRIPTION:\nArsenal and Diggle confront Laurel about trying to step in
	toher sister's shoes and warn her to stop before she gets herselfkilled. H
	owever\, when Brick kidnaps the city's Aldermen andthreatens to kill them 
	all unless the police evacuate TheGlades\, it's all suits on deck. Meanwhi
	le\, Ray steps in tohelp Lance and the police force fight Brick\, showing 
	Felicitya new side of her boss. Malcom tells Thea that Ra's al Ghul isafte
	r him and his family and they must leave townimmediately.\n\n
DTSTART:20150129T010000Z
DTEND:20150129T020000Z
END:VEVENT
END:VCALENDAR
