BEGIN:VCALENDAR
VERSION:2.0
PRODID:-//InvisionCommunity Events 4.7.23//EN
METHOD:PUBLISH
CALSCALE:GREGORIAN
REFRESH-INTERVAL:PT15M
X-PUBLISHED-TTL:PT15M
X-WR-CALNAME:At My TV
NAME:At My TV
BEGIN:VTIMEZONE
TZID:Europe/London
TZURL:http://tzurl.org/zoneinfo/Europe/London
X-LIC-LOCATION:Europe/London
BEGIN:DAYLIGHT
TZOFFSETFROM:+0000
TZOFFSETTO:+0100
TZNAME:BST
DTSTART:20150329T020000Z
RRULE:FREQ=YEARLY;BYMONTH=3;BYDAY=-1SU
END:DAYLIGHT
BEGIN:STANDARD
TZOFFSETFROM:+0100
TZOFFSETTO:+0000
TZNAME:GMT
DTSTART:20151025T020000Z
RRULE:FREQ=YEARLY;BYMONTH=10;BYDAY=-1SU
END:STANDARD
END:VTIMEZONE
BEGIN:VEVENT
SUMMARY:Pawn Stars 9x35 - Money Ball
DTSTAMP:20150116T111329Z
SEQUENCE:0
UID:27395-2-841ebed20eb198c4569419e99b7bf40a@themidnightzone.com
ORGANIZER;CN="Midnight":midnight@themidnightzone.com
DESCRIPTION:\nHail to the chief with the Pawn Stars when an archive of i
	temssigned by President Franklin Delano Roosevelt is brought intothe shop.
	 Will this presidential collection get Rick's vote orwill it get vetoed? T
	hen\, Rick steps up to the plate when heis presented with a rare photograp
	h of Babe Ruth from hisrookie season. Can he call the shots or will he be 
	thrown acurveball? And later\, after Chumlee lends money to Rick\, hegoes 
	to great lengths to get back what he's owed. Can Chum getpayback or will R
	ick end up cashing in?\n
DTSTART:20150123T020000Z
DTEND:20150123T023000Z
END:VEVENT
END:VCALENDAR
