BEGIN:VCALENDAR
VERSION:2.0
PRODID:-//InvisionCommunity Events 4.7.23//EN
METHOD:PUBLISH
CALSCALE:GREGORIAN
REFRESH-INTERVAL:PT15M
X-PUBLISHED-TTL:PT15M
X-WR-CALNAME:Pogdesign
NAME:Pogdesign
BEGIN:VTIMEZONE
TZID:Europe/London
TZURL:http://tzurl.org/zoneinfo/Europe/London
X-LIC-LOCATION:Europe/London
BEGIN:DAYLIGHT
TZOFFSETFROM:+0000
TZOFFSETTO:+0100
TZNAME:BST
DTSTART:20150329T020000Z
RRULE:FREQ=YEARLY;BYMONTH=3;BYDAY=-1SU
END:DAYLIGHT
BEGIN:STANDARD
TZOFFSETFROM:+0100
TZOFFSETTO:+0000
TZNAME:GMT
DTSTART:20151025T020000Z
RRULE:FREQ=YEARLY;BYMONTH=10;BYDAY=-1SU
END:STANDARD
END:VTIMEZONE
BEGIN:VEVENT
SUMMARY:Brooklyn Nine-Nine 2x15 - Hostages
DTSTAMP:20150129T180632Z
SEQUENCE:0
UID:28225-3-841ebed20eb198c4569419e99b7bf40a@themidnightzone.com
ORGANIZER;CN="Midnight":midnight@themidnightzone.com
DESCRIPTION:\nJake is heartbroken over Sophia but his spirits are lifted
	 whenthe squad is invited to a Homeland Security terrorist trainingsimulat
	ion. That is\, until the agent in charge assigns themthe lame role of play
	ing hostages. Meanwhile\, Gina administersa psychological exam to Holt\, a
	nd Amy and Rosa compete for aday off from work.\n
DTSTART:20150208T203000Z
DTEND:20150208T210000Z
END:VEVENT
END:VCALENDAR
