BEGIN:VCALENDAR
VERSION:2.0
PRODID:-//InvisionCommunity Events 4.7.23//EN
METHOD:PUBLISH
CALSCALE:GREGORIAN
REFRESH-INTERVAL:PT15M
X-PUBLISHED-TTL:PT15M
X-WR-CALNAME:Pogdesign
NAME:Pogdesign
BEGIN:VTIMEZONE
TZID:Europe/London
TZURL:http://tzurl.org/zoneinfo/Europe/London
X-LIC-LOCATION:Europe/London
BEGIN:DAYLIGHT
TZOFFSETFROM:+0000
TZOFFSETTO:+0100
TZNAME:BST
DTSTART:20150329T020000Z
RRULE:FREQ=YEARLY;BYMONTH=3;BYDAY=-1SU
END:DAYLIGHT
BEGIN:STANDARD
TZOFFSETFROM:+0100
TZOFFSETTO:+0000
TZNAME:GMT
DTSTART:20151025T020000Z
RRULE:FREQ=YEARLY;BYMONTH=10;BYDAY=-1SU
END:STANDARD
END:VTIMEZONE
BEGIN:VEVENT
SUMMARY:Chicago PD 2x14 - Erin's Mom
DTSTAMP:20150129T180632Z
SEQUENCE:0
UID:28236-3-841ebed20eb198c4569419e99b7bf40a@themidnightzone.com
ORGANIZER;CN="Midnight":midnight@themidnightzone.com
DESCRIPTION:\nBunny comes to Lindsay concerned about a suspicious repeat
	customer at her husband's rental company. This lead bringsIntelligence int
	o a case which robbery-homicide has beenworking for months. Detective Gina
	 Gawronski downloads theirintel to the team\, she also happens to be Anton
	io's formerco-worker from Vice. Voight doesn't trust Bunny's motives forth
	e tip.\n
DTSTART:20150211T220000Z
DTEND:20150211T230000Z
END:VEVENT
END:VCALENDAR
