BEGIN:VCALENDAR
VERSION:2.0
PRODID:-//InvisionCommunity Events 4.7.23//EN
METHOD:PUBLISH
CALSCALE:GREGORIAN
REFRESH-INTERVAL:PT15M
X-PUBLISHED-TTL:PT15M
X-WR-CALNAME:Pogdesign
NAME:Pogdesign
BEGIN:VTIMEZONE
TZID:Europe/London
TZURL:http://tzurl.org/zoneinfo/Europe/London
X-LIC-LOCATION:Europe/London
BEGIN:DAYLIGHT
TZOFFSETFROM:+0000
TZOFFSETTO:+0100
TZNAME:BST
DTSTART:20150329T020000Z
RRULE:FREQ=YEARLY;BYMONTH=3;BYDAY=-1SU
END:DAYLIGHT
BEGIN:STANDARD
TZOFFSETFROM:+0100
TZOFFSETTO:+0000
TZNAME:GMT
DTSTART:20151025T020000Z
RRULE:FREQ=YEARLY;BYMONTH=10;BYDAY=-1SU
END:STANDARD
END:VTIMEZONE
BEGIN:VEVENT
SUMMARY:Gotham 1x15 - The Scarecrow
DTSTAMP:20150129T180632Z
SEQUENCE:0
UID:28299-3-841ebed20eb198c4569419e99b7bf40a@themidnightzone.com
ORGANIZER;CN="Midnight":midnight@themidnightzone.com
DESCRIPTION:\nGordon and Bullock set out to stop Gerald Crane\, a biolog
	yteacher who has been harvesting the glands of his murdervictims. Meanwhil
	e\, after finding herself in an unusualsetting\, Mooney continues plotting
	 to gain power\, and Falconeattempts to change Maroni's plan for the Pengu
	in. Then\, Brucetakes a treacherous hike.\n
DTSTART:20150209T200000Z
DTEND:20150209T210000Z
END:VEVENT
END:VCALENDAR
