BEGIN:VCALENDAR
VERSION:2.0
PRODID:-//InvisionCommunity Events 4.7.23//EN
METHOD:PUBLISH
CALSCALE:GREGORIAN
REFRESH-INTERVAL:PT15M
X-PUBLISHED-TTL:PT15M
X-WR-CALNAME:Pogdesign
NAME:Pogdesign
BEGIN:VTIMEZONE
TZID:Europe/London
TZURL:http://tzurl.org/zoneinfo/Europe/London
X-LIC-LOCATION:Europe/London
BEGIN:DAYLIGHT
TZOFFSETFROM:+0000
TZOFFSETTO:+0100
TZNAME:BST
DTSTART:20150329T020000Z
RRULE:FREQ=YEARLY;BYMONTH=3;BYDAY=-1SU
END:DAYLIGHT
BEGIN:STANDARD
TZOFFSETFROM:+0100
TZOFFSETTO:+0000
TZNAME:GMT
DTSTART:20151025T020000Z
RRULE:FREQ=YEARLY;BYMONTH=10;BYDAY=-1SU
END:STANDARD
END:VTIMEZONE
BEGIN:VEVENT
SUMMARY:The Jonathan Ross Show 8x2 - Mel Giedroyc\, Sue Perkins\, Di
	anaRigg\, Johnny Vegas
DTSTAMP:20150129T180632Z
SEQUENCE:0
UID:28337-3-841ebed20eb198c4569419e99b7bf40a@themidnightzone.com
ORGANIZER;CN="Midnight":midnight@themidnightzone.com
DESCRIPTION:\nThe host is joined by Great British Bake Off presenters Me
	lGiedroyc and Sue Perkins\, talking about their daytime chatshow on ITV\, 
	veteran actress Diana Rigg\, who plays OlennaTyrell in Game of Thrones\, a
	nd comedian Johnny Vegas\, whoreturned to the popular sitcom Benidorm this
	 year.\n
DTSTART:20150131T162000Z
DTEND:20150131T172000Z
END:VEVENT
END:VCALENDAR
