BEGIN:VCALENDAR
VERSION:2.0
PRODID:-//InvisionCommunity Events 4.7.23//EN
METHOD:PUBLISH
CALSCALE:GREGORIAN
REFRESH-INTERVAL:PT15M
X-PUBLISHED-TTL:PT15M
X-WR-CALNAME:Pogdesign
NAME:Pogdesign
BEGIN:VTIMEZONE
TZID:Europe/London
TZURL:http://tzurl.org/zoneinfo/Europe/London
X-LIC-LOCATION:Europe/London
BEGIN:DAYLIGHT
TZOFFSETFROM:+0000
TZOFFSETTO:+0100
TZNAME:BST
DTSTART:20150329T020000Z
RRULE:FREQ=YEARLY;BYMONTH=3;BYDAY=-1SU
END:DAYLIGHT
BEGIN:STANDARD
TZOFFSETFROM:+0100
TZOFFSETTO:+0000
TZNAME:GMT
DTSTART:20151025T020000Z
RRULE:FREQ=YEARLY;BYMONTH=10;BYDAY=-1SU
END:STANDARD
END:VTIMEZONE
BEGIN:VEVENT
SUMMARY:The Originals 2x13 - The Devil is Damned
DTSTAMP:20150129T180632Z
SEQUENCE:0
UID:28408-3-841ebed20eb198c4569419e99b7bf40a@themidnightzone.com
ORGANIZER;CN="Midnight":midnight@themidnightzone.com
DESCRIPTION:\nMore dangerous than ever\, Vincent remains one step ahead 
	afterjoining forces with a powerful figure from his past. As thethreat to 
	Hope's life grows stronger\, Klaus realizes he has nochoice but to place h
	is trust in his siblings to ensure sheremains protected. Meanwhile\, after
	 being presented with anenticing proposition\, Kaleb is forced to make a d
	ifficult lifeor death decision\, and Elijah finds himself in the fight ofh
	is life after an unexpected visitor arrives at the safe house.At the bayou
	\, Hayley and Jackson continue to prepare for theunification ritual\, but 
	things quickly go awry when theybecome pawns in Vincent's dangerous plan.\
	n
DTSTART:20150209T200000Z
DTEND:20150209T210000Z
END:VEVENT
END:VCALENDAR
