BEGIN:VCALENDAR
VERSION:2.0
PRODID:-//InvisionCommunity Events 4.7.23//EN
METHOD:PUBLISH
CALSCALE:GREGORIAN
REFRESH-INTERVAL:PT15M
X-PUBLISHED-TTL:PT15M
X-WR-CALNAME:Pogdesign
NAME:Pogdesign
BEGIN:VTIMEZONE
TZID:Europe/London
TZURL:http://tzurl.org/zoneinfo/Europe/London
X-LIC-LOCATION:Europe/London
BEGIN:DAYLIGHT
TZOFFSETFROM:+0000
TZOFFSETTO:+0100
TZNAME:BST
DTSTART:20150329T020000Z
RRULE:FREQ=YEARLY;BYMONTH=3;BYDAY=-1SU
END:DAYLIGHT
BEGIN:STANDARD
TZOFFSETFROM:+0100
TZOFFSETTO:+0000
TZNAME:GMT
DTSTART:20151025T020000Z
RRULE:FREQ=YEARLY;BYMONTH=10;BYDAY=-1SU
END:STANDARD
END:VTIMEZONE
BEGIN:VEVENT
SUMMARY:Pretty Little Liars 5x18 - Oh\, What Hard Luck Stories They 
	AllHand Me
DTSTAMP:20150129T180632Z
SEQUENCE:0
UID:28413-3-841ebed20eb198c4569419e99b7bf40a@themidnightzone.com
ORGANIZER;CN="Midnight":midnight@themidnightzone.com
DESCRIPTION:\nAria\, Emily\, Hanna and Spencer have been burned before b
	ynewcomers to Rosewood\, so it's no surprise the four ladies arewary when 
	someone new crosses their path. Spencer lets down herguard a bit as she sp
	ends more time with Jonny\, and Emilycontinues to try and figure out Talia
	 as she keeps gettingmixed signals from her co-workers. When Mona's friend
	 Leslishows up in town\, Hanna is tasked to get her back story andfind out
	 if Lesli is really who she says she is. Are the girlswise to keep an eye 
	on everyone\, or can they allow a bit ofcomfort room without worrying it i
	s an \"A\" trap?\n
DTSTART:20150203T200000Z
DTEND:20150203T210000Z
END:VEVENT
END:VCALENDAR
