BEGIN:VCALENDAR
VERSION:2.0
PRODID:-//InvisionCommunity Events 4.7.23//EN
METHOD:PUBLISH
CALSCALE:GREGORIAN
REFRESH-INTERVAL:PT15M
X-PUBLISHED-TTL:PT15M
X-WR-CALNAME:Pogdesign
NAME:Pogdesign
BEGIN:VTIMEZONE
TZID:Europe/London
TZURL:http://tzurl.org/zoneinfo/Europe/London
X-LIC-LOCATION:Europe/London
BEGIN:DAYLIGHT
TZOFFSETFROM:+0000
TZOFFSETTO:+0100
TZNAME:BST
DTSTART:20150329T020000Z
RRULE:FREQ=YEARLY;BYMONTH=3;BYDAY=-1SU
END:DAYLIGHT
BEGIN:STANDARD
TZOFFSETFROM:+0100
TZOFFSETTO:+0000
TZNAME:GMT
DTSTART:20151025T020000Z
RRULE:FREQ=YEARLY;BYMONTH=10;BYDAY=-1SU
END:STANDARD
END:VTIMEZONE
BEGIN:VEVENT
SUMMARY:The Vampire Diaries 6x12 - Prayer For the Dying
DTSTAMP:20150129T180632Z
SEQUENCE:0
UID:28478-3-841ebed20eb198c4569419e99b7bf40a@themidnightzone.com
ORGANIZER;CN="Midnight":midnight@themidnightzone.com
DESCRIPTION:\nWhen Liv and Luke's father arrives to town to celebrate th
	eirbirthday\, they try and convince him to let Jo and Kai taketheir place 
	in the merge ceremony. After Tyler finds out thatthe merge is happening so
	oner than he expected\, he urges Livto let him talk to her father. Meanwhi
	le\, after Caroline'splan to cure her mother takes an unexpected and devas
	tatingturn\, Elena\, Stefan and Damon gather at the hospital\, whileJo att
	empts to save Sheriff Forbes' life. Lastly\, with themerge set to take pla
	ce\, Damon's risky plan quickly sendsthings spiraling out of control\, for
	cing one of the twins totake matters into their own hands.\n
DTSTART:20150129T200000Z
DTEND:20150129T210000Z
END:VEVENT
END:VCALENDAR
