BEGIN:VCALENDAR
VERSION:2.0
PRODID:-//InvisionCommunity Events 4.7.23//EN
METHOD:PUBLISH
CALSCALE:GREGORIAN
REFRESH-INTERVAL:PT15M
X-PUBLISHED-TTL:PT15M
X-WR-CALNAME:Pogdesign
NAME:Pogdesign
BEGIN:VTIMEZONE
TZID:Europe/London
TZURL:http://tzurl.org/zoneinfo/Europe/London
X-LIC-LOCATION:Europe/London
BEGIN:DAYLIGHT
TZOFFSETFROM:+0000
TZOFFSETTO:+0100
TZNAME:BST
DTSTART:20150329T020000Z
RRULE:FREQ=YEARLY;BYMONTH=3;BYDAY=-1SU
END:DAYLIGHT
BEGIN:STANDARD
TZOFFSETFROM:+0100
TZOFFSETTO:+0000
TZNAME:GMT
DTSTART:20151025T020000Z
RRULE:FREQ=YEARLY;BYMONTH=10;BYDAY=-1SU
END:STANDARD
END:VTIMEZONE
BEGIN:VEVENT
SUMMARY:The Vampire Diaries 6x14 - Stay
DTSTAMP:20150130T134830Z
SEQUENCE:0
UID:28504-3-841ebed20eb198c4569419e99b7bf40a@themidnightzone.com
ORGANIZER;CN="Midnight":midnight@themidnightzone.com
DESCRIPTION:\nIt's Jeremy's last day in Mystic Falls and Elena puts on a
	brave face as they reminisce about their past. Stefan andCaroline find the
	mselves growing closer as they prepareCaroline's family cabin for her moth
	er to live out her finaldays. While packing up her office\, Sheriff Forbes
	 turns toDamon for help solving one of her remaining open casesinvolving E
	lena's parents. Elsewhere\, when a violentconfrontation with Enzo leaves J
	eremy wondering whether heshould leave or not\, Matt finds his own life on
	 the line afterEnzo lures him and Sarah Salvatore into his dangerous plan.
	Lastly\, Caroline rushes to the hospital after learning hermother has take
	n a turn for the worse.\n
DTSTART:20150212T200000Z
DTEND:20150212T210000Z
END:VEVENT
END:VCALENDAR
