BEGIN:VCALENDAR
VERSION:2.0
PRODID:-//InvisionCommunity Events 4.7.23//EN
METHOD:PUBLISH
CALSCALE:GREGORIAN
REFRESH-INTERVAL:PT15M
X-PUBLISHED-TTL:PT15M
X-WR-CALNAME:At My TV
NAME:At My TV
BEGIN:VTIMEZONE
TZID:Europe/London
TZURL:http://tzurl.org/zoneinfo/Europe/London
X-LIC-LOCATION:Europe/London
BEGIN:DAYLIGHT
TZOFFSETFROM:+0000
TZOFFSETTO:+0100
TZNAME:BST
DTSTART:20150329T020000Z
RRULE:FREQ=YEARLY;BYMONTH=3;BYDAY=-1SU
END:DAYLIGHT
BEGIN:STANDARD
TZOFFSETFROM:+0100
TZOFFSETTO:+0000
TZNAME:GMT
DTSTART:20151025T020000Z
RRULE:FREQ=YEARLY;BYMONTH=10;BYDAY=-1SU
END:STANDARD
END:VTIMEZONE
BEGIN:VEVENT
SUMMARY:State of Affairs 1x12 - Here and Now
DTSTAMP:20150131T161555Z
SEQUENCE:0
UID:28648-2-841ebed20eb198c4569419e99b7bf40a@themidnightzone.com
ORGANIZER;CN="Midnight":midnight@themidnightzone.com
DESCRIPTION:\nNick finally has Sheikh Hakam in his sights\, and Charlie 
	andPresident Payton must decide what sacrifices to make and howfar to go i
	n order to bring down the most wanted terrorist inthe world. Charlie and t
	he briefing team work with Nick on aplan to kill Fatah and Hakam. But when
	 an unexpected obstacleis put in their path\, Charlie finds herself at odd
	s with thePresident over what steps to take next.\n
DTSTART:20150210T030000Z
DTEND:20150210T040000Z
END:VEVENT
END:VCALENDAR
