BEGIN:VCALENDAR
VERSION:2.0
PRODID:-//InvisionCommunity Events 4.7.23//EN
METHOD:PUBLISH
CALSCALE:GREGORIAN
REFRESH-INTERVAL:PT15M
X-PUBLISHED-TTL:PT15M
X-WR-CALNAME:Pogdesign
NAME:Pogdesign
BEGIN:VTIMEZONE
TZID:Europe/London
TZURL:http://tzurl.org/zoneinfo/Europe/London
X-LIC-LOCATION:Europe/London
BEGIN:DAYLIGHT
TZOFFSETFROM:+0000
TZOFFSETTO:+0100
TZNAME:BST
DTSTART:20150329T020000Z
RRULE:FREQ=YEARLY;BYMONTH=3;BYDAY=-1SU
END:DAYLIGHT
BEGIN:STANDARD
TZOFFSETFROM:+0100
TZOFFSETTO:+0000
TZNAME:GMT
DTSTART:20151025T020000Z
RRULE:FREQ=YEARLY;BYMONTH=10;BYDAY=-1SU
END:STANDARD
END:VTIMEZONE
BEGIN:VEVENT
SUMMARY:The Middle 6x13 - Valentine's Day VI
DTSTAMP:20150203T075056Z
SEQUENCE:0
UID:28737-3-841ebed20eb198c4569419e99b7bf40a@themidnightzone.com
ORGANIZER;CN="Midnight":midnight@themidnightzone.com
DESCRIPTION:\nValentine's Day aims its sights on the Heck kids when a ne
	rvousBrick finds out that his quirky girlfriend Cindy wants him tokiss her
	 on the special day\, Darrin asks Frankie and Mike tohelp out with an exci
	ting scavenger hunt he's putting togetherfor Sue\, and Axl begins to quest
	ion his girlfriend Devin'srequest that he not give her anything for what s
	he considers tobe a lame tradition.\n
DTSTART:20150211T200000Z
DTEND:20150211T203000Z
END:VEVENT
END:VCALENDAR
