BEGIN:VCALENDAR
VERSION:2.0
PRODID:-//InvisionCommunity Events 4.7.23//EN
METHOD:PUBLISH
CALSCALE:GREGORIAN
REFRESH-INTERVAL:PT15M
X-PUBLISHED-TTL:PT15M
X-WR-CALNAME:At My TV
NAME:At My TV
BEGIN:VTIMEZONE
TZID:Europe/London
TZURL:http://tzurl.org/zoneinfo/Europe/London
X-LIC-LOCATION:Europe/London
BEGIN:DAYLIGHT
TZOFFSETFROM:+0000
TZOFFSETTO:+0100
TZNAME:BST
DTSTART:20150329T020000Z
RRULE:FREQ=YEARLY;BYMONTH=3;BYDAY=-1SU
END:DAYLIGHT
BEGIN:STANDARD
TZOFFSETFROM:+0100
TZOFFSETTO:+0000
TZNAME:GMT
DTSTART:20151025T020000Z
RRULE:FREQ=YEARLY;BYMONTH=10;BYDAY=-1SU
END:STANDARD
END:VTIMEZONE
BEGIN:VEVENT
SUMMARY:Chopped 22x8 - Chocolate Rush!
DTSTAMP:20150204T054654Z
SEQUENCE:0
UID:28777-2-841ebed20eb198c4569419e99b7bf40a@themidnightzone.com
ORGANIZER;CN="Midnight":midnight@themidnightzone.com
DESCRIPTION:\nA surge of excitement is felt in the Chopped Kitchen when 
	thechefs find out that every mystery basket will containchocolate! In the 
	first round\, the chefs must figure out howto make chocolate ingredients w
	ork with pork chops. The basketsin the entree round contain beef along wit
	h dark chocolate. Thetwo lucky\, talented finalists aim to amaze the judge
	s withtheir milk chocolate and graham cracker desserts.\n
DTSTART:20150211T030000Z
DTEND:20150211T040000Z
END:VEVENT
END:VCALENDAR
