BEGIN:VCALENDAR
VERSION:2.0
PRODID:-//InvisionCommunity Events 4.7.23//EN
METHOD:PUBLISH
CALSCALE:GREGORIAN
REFRESH-INTERVAL:PT15M
X-PUBLISHED-TTL:PT15M
X-WR-CALNAME:At My TV
NAME:At My TV
BEGIN:VTIMEZONE
TZID:Europe/London
TZURL:http://tzurl.org/zoneinfo/Europe/London
X-LIC-LOCATION:Europe/London
BEGIN:DAYLIGHT
TZOFFSETFROM:+0000
TZOFFSETTO:+0100
TZNAME:BST
DTSTART:20150329T020000Z
RRULE:FREQ=YEARLY;BYMONTH=3;BYDAY=-1SU
END:DAYLIGHT
BEGIN:STANDARD
TZOFFSETFROM:+0100
TZOFFSETTO:+0000
TZNAME:GMT
DTSTART:20151025T020000Z
RRULE:FREQ=YEARLY;BYMONTH=10;BYDAY=-1SU
END:STANDARD
END:VTIMEZONE
BEGIN:VEVENT
SUMMARY:The Flash (2014) 1x14 - Fallout
DTSTAMP:20150204T054654Z
SEQUENCE:0
UID:28782-2-841ebed20eb198c4569419e99b7bf40a@themidnightzone.com
ORGANIZER;CN="Midnight":midnight@themidnightzone.com
DESCRIPTION:\nAfter the nuclear explosion separates Ronnie and Dr. Stein
	\,Barry and the team believe both men are safe. Caitlin isthrilled to have
	 her fiancé back and prepares to resume theirlife together while Dr. Stei
	n returns to his wife. However\,when General Eiling targets Firestorm\, Ro
	nnie and Dr. Steinmust decide if they are safer together or apart. Meanwhi
	le\,Mason Bridge tells Iris that there is something secretive goingon at S
	.T.A.R. Labs and Dr. Stein gives Barry some importantinformation about tim
	e travel.\n
DTSTART:20150218T010000Z
DTEND:20150218T020000Z
END:VEVENT
END:VCALENDAR
