BEGIN:VCALENDAR
VERSION:2.0
PRODID:-//InvisionCommunity Events 4.7.23//EN
METHOD:PUBLISH
CALSCALE:GREGORIAN
REFRESH-INTERVAL:PT15M
X-PUBLISHED-TTL:PT15M
X-WR-CALNAME:At My TV
NAME:At My TV
BEGIN:VTIMEZONE
TZID:Europe/London
TZURL:http://tzurl.org/zoneinfo/Europe/London
X-LIC-LOCATION:Europe/London
BEGIN:DAYLIGHT
TZOFFSETFROM:+0000
TZOFFSETTO:+0100
TZNAME:BST
DTSTART:20150329T020000Z
RRULE:FREQ=YEARLY;BYMONTH=3;BYDAY=-1SU
END:DAYLIGHT
BEGIN:STANDARD
TZOFFSETFROM:+0100
TZOFFSETTO:+0000
TZNAME:GMT
DTSTART:20151025T020000Z
RRULE:FREQ=YEARLY;BYMONTH=10;BYDAY=-1SU
END:STANDARD
END:VTIMEZONE
BEGIN:VEVENT
SUMMARY:Indian Summers 1x1 - Episode 1
DTSTAMP:20150204T054654Z
SEQUENCE:0
UID:28787-2-841ebed20eb198c4569419e99b7bf40a@themidnightzone.com
ORGANIZER;CN="Midnight":midnight@themidnightzone.com
DESCRIPTION:\nRalph Whelan and the rest of the Indian Civil Service arem
	aking the annual move to Simla. Ralph's sister Alice alsoreturns to India 
	along with Cynthia Coffin. The train to Simlaends up being delayed after a
	 young boy is discovered collapsedon the railway tracks. Dougie and Leena 
	attempt to help thechild leaving behind Dougie's angry wife Sarah.\n
DTSTART:20150215T210000Z
DTEND:20150215T220000Z
END:VEVENT
END:VCALENDAR
