BEGIN:VCALENDAR
VERSION:2.0
PRODID:-//InvisionCommunity Events 4.7.23//EN
METHOD:PUBLISH
CALSCALE:GREGORIAN
REFRESH-INTERVAL:PT15M
X-PUBLISHED-TTL:PT15M
X-WR-CALNAME:Pogdesign
NAME:Pogdesign
BEGIN:VTIMEZONE
TZID:Europe/London
TZURL:http://tzurl.org/zoneinfo/Europe/London
X-LIC-LOCATION:Europe/London
BEGIN:DAYLIGHT
TZOFFSETFROM:+0000
TZOFFSETTO:+0100
TZNAME:BST
DTSTART:20150329T020000Z
RRULE:FREQ=YEARLY;BYMONTH=3;BYDAY=-1SU
END:DAYLIGHT
BEGIN:STANDARD
TZOFFSETFROM:+0100
TZOFFSETTO:+0000
TZNAME:GMT
DTSTART:20151025T020000Z
RRULE:FREQ=YEARLY;BYMONTH=10;BYDAY=-1SU
END:STANDARD
END:VTIMEZONE
BEGIN:VEVENT
SUMMARY:The Graham Norton Show 16x18 - Jamie Dornan\, Julie Walters\
	,Stephen Mangan\, Charli XCX and Rita Ora
DTSTAMP:20150205T092647Z
SEQUENCE:0
UID:28853-3-841ebed20eb198c4569419e99b7bf40a@themidnightzone.com
ORGANIZER;CN="Midnight":midnight@themidnightzone.com
DESCRIPTION:\nThe award-winning host continues his anarchic talk show. E
	xpectthe unexpected as top celebrity guests join in the fun withGraham and
	 his irrepressible audience. Graham's guest includeJamie Dornan\, starring
	 in the much-anticipated movie FiftyShades of Grey\, comedy favourite Juli
	e Walters in new dramaIndian Summers\, Episodes star Stephen Mangan at the
	 Nationalin Rules for Living and music from Charli XCX and Rita Ora whoper
	form Doing It.\n
DTSTART:20150213T173500Z
DTEND:20150213T183500Z
END:VEVENT
END:VCALENDAR
