BEGIN:VCALENDAR
VERSION:2.0
PRODID:-//InvisionCommunity Events 4.7.23//EN
METHOD:PUBLISH
CALSCALE:GREGORIAN
REFRESH-INTERVAL:PT15M
X-PUBLISHED-TTL:PT15M
X-WR-CALNAME:Pogdesign
NAME:Pogdesign
BEGIN:VTIMEZONE
TZID:Europe/London
TZURL:http://tzurl.org/zoneinfo/Europe/London
X-LIC-LOCATION:Europe/London
BEGIN:DAYLIGHT
TZOFFSETFROM:+0000
TZOFFSETTO:+0100
TZNAME:BST
DTSTART:20150329T020000Z
RRULE:FREQ=YEARLY;BYMONTH=3;BYDAY=-1SU
END:DAYLIGHT
BEGIN:STANDARD
TZOFFSETFROM:+0100
TZOFFSETTO:+0000
TZNAME:GMT
DTSTART:20151025T020000Z
RRULE:FREQ=YEARLY;BYMONTH=10;BYDAY=-1SU
END:STANDARD
END:VTIMEZONE
BEGIN:VEVENT
SUMMARY:The Jonathan Ross Show 8x3 - Stephen Fry\, Andrew
DTSTAMP:20150205T092647Z
SEQUENCE:0
UID:28858-3-841ebed20eb198c4569419e99b7bf40a@themidnightzone.com
ORGANIZER;CN="Midnight":midnight@themidnightzone.com
DESCRIPTION:\nThe host is joined by the nation's favourite polymath\, St
	ephenFry\, for his first TV interview since his wedding to ElliottSpencer.
	 Also on the sofa are former England cricket captainAndrew 'Freddie' Flint
	off\, who now plays for Brisbane Heat\,and comedy actor Kevin Hart\, ahead
	 of his new film The WeddingRinger.\n
DTSTART:20150207T162000Z
DTEND:20150207T172000Z
END:VEVENT
END:VCALENDAR
