BEGIN:VCALENDAR
VERSION:2.0
PRODID:-//InvisionCommunity Events 4.7.23//EN
METHOD:PUBLISH
CALSCALE:GREGORIAN
REFRESH-INTERVAL:PT15M
X-PUBLISHED-TTL:PT15M
X-WR-CALNAME:Pogdesign
NAME:Pogdesign
BEGIN:VTIMEZONE
TZID:Europe/London
TZURL:http://tzurl.org/zoneinfo/Europe/London
X-LIC-LOCATION:Europe/London
BEGIN:DAYLIGHT
TZOFFSETFROM:+0000
TZOFFSETTO:+0100
TZNAME:BST
DTSTART:20150329T020000Z
RRULE:FREQ=YEARLY;BYMONTH=3;BYDAY=-1SU
END:DAYLIGHT
BEGIN:STANDARD
TZOFFSETFROM:+0100
TZOFFSETTO:+0000
TZNAME:GMT
DTSTART:20151025T020000Z
RRULE:FREQ=YEARLY;BYMONTH=10;BYDAY=-1SU
END:STANDARD
END:VTIMEZONE
BEGIN:VEVENT
SUMMARY:Mr. Selfridge 3x4 - Series 3\, Episode 4
DTSTAMP:20150206T210452Z
SEQUENCE:0
UID:28979-3-841ebed20eb198c4569419e99b7bf40a@themidnightzone.com
ORGANIZER;CN="Midnight":midnight@themidnightzone.com
DESCRIPTION:\nKitty is taken to hospital by Harry and Nancy to hospital 
	andFrank makes his way there too. Harry cancels his theatre plansand takes
	 Nancy out to dinner instead. Violette makes her moveon Victor. Kitty find
	s it to hard to remember the detail of herattack. Frank realises that the 
	attackers must have been theex-servicemen who were drinking with him immed
	iately before theattack.\n
DTSTART:20150215T160000Z
DTEND:20150215T170000Z
END:VEVENT
END:VCALENDAR
